BEGIN:VCALENDAR
VERSION:2.0
PRODID:-//wp-events-plugin.com//7.2.3.1//EN
TZID:America/Toronto
X-WR-TIMEZONE:America/Toronto
BEGIN:VEVENT
UID:68@parlourproject.org
DTSTART;TZID=America/Toronto:20260507T190000
DTEND;TZID=America/Toronto:20260507T220000
DTSTAMP:20260420T182733Z
URL:https://parlourproject.org/events/the-meet-up-young-adult-networking/
SUMMARY:THE MEET UP Young Adult Networking
DESCRIPTION:THE MEET UP\nYoung Adult Networking Meetup\nCome meet other lik
 e-minded youth in an open\, active discussion space designed to get real c
 onversations flowing.\nLed by a Parlour Project Volunteer\, Andrea Baird\,
  Executive Director of a Toronto-based youth organization\, this session u
 ses simple\, practical prompts and activities to spark connection—whethe
 r you're exploring ideas\, entrepreneurship\, or just looking to meet othe
 rs on a similar path.\nWhat to expect:\n• Easy\, guided conversation sta
 rters• Space to share ideas and experiences• Connection around interes
 ts\, projects\, and possibilities\nTea\, coffee\, and snacks provided.Brin
 g a friend—or come solo. Everyone is welcome.\nAges 18–30Free to atten
 d\nPlease click the registration link below to add your name to the list.
LOCATION:THE COACH HOUSE\, 10 Dufferin St\, Caledon East\, Ontario\, Canada
GEO:43.868205;-79.868012
X-APPLE-STRUCTURED-LOCATION;VALUE=URI;X-ADDRESS=10 Dufferin St\, Caledon Ea
 st\, Ontario\, Canada;X-APPLE-RADIUS=100;X-TITLE=THE COACH HOUSE:geo:43.86
 8205,-79.868012
END:VEVENT
BEGIN:VTIMEZONE
TZID:America/Toronto
X-LIC-LOCATION:America/Toronto
BEGIN:DAYLIGHT
DTSTART:20260308T030000
TZOFFSETFROM:-0500
TZOFFSETTO:-0400
TZNAME:EDT
END:DAYLIGHT
END:VTIMEZONE
END:VCALENDAR